BEGIN:VCALENDAR
VERSION:2.0
PRODID:-//Tukios.com/
BEGIN:VEVENT
UID:d7bf9b1f-8567-4fbe-9a4f-4fa02eeac383@www.nashvillefuneralandcremation.com
DTSTAMP:20260421T010748Z
DTSTART:20260531T050000Z
DTEND:20260531T060000Z
SUMMARY:Celebration of Life
DESCRIPTION:
URL:https://www.nashvillefuneralandcremation.com/obituaries/erin-peacock
LOCATION:Fairmount, IN Fairmont Drive  Nashville TN 37203
GEO:36.1409654;-86.8205279
END:VEVENT
END:VCALENDAR